BEGIN:VCALENDAR
VERSION:2.0
PRODID:Events Booking
BEGIN:VEVENT
UID:69e51717875a6
SUMMARY:Online: Internationale Fachkräfte im Gesundheitsbereich finden\, e
 instellen und binden
DESCRIPTION:Sie sind arbeitgebend im Gesundheitssektor und kämpfen mit Fac
 hkräftemangel? Dann verpassen Sie nicht unsere Online-Veranstaltung am 08
 . April 2025! Erfahren Sie\, wie Sie internationale Fachkräfte im Gesundh
 eitswesen erfolgreich finden\, einstellen und langfristig integrieren. Exp
 ert*innen aus der Praxis geben Ihnen wertvolle Einblicke und Lösungsansä
 tze für Ihre Herausforderungen.&nbsp\;Jetzt anmelden und die Zukunft Ihre
 r Personalstrategie gestalten!
DTSTART:20250408T113000Z
DTEND:20250408T134500Z
DTSTAMP:20241213T085927Z
ORGANIZER;CN=IQ Veranstaltung: Bestätigung:MAILTO:noreply@migranet.org
END:VEVENT
END:VCALENDAR